BEGIN:VCALENDAR
VERSION:2.0
PRODID:-//Foggy Project - ECPv6.2.5//NONSGML v1.0//EN
CALSCALE:GREGORIAN
METHOD:PUBLISH
X-WR-CALNAME:Foggy Project
X-ORIGINAL-URL:https://www.foggyproject.com
X-WR-CALDESC:Events for Foggy Project
REFRESH-INTERVAL;VALUE=DURATION:PT1H
X-Robots-Tag:noindex
X-PUBLISHED-TTL:PT1H
BEGIN:VTIMEZONE
TZID:UTC
BEGIN:STANDARD
TZOFFSETFROM:+0000
TZOFFSETTO:+0000
TZNAME:UTC
DTSTART:20260101T000000
END:STANDARD
END:VTIMEZONE
BEGIN:VEVENT
DTSTART;TZID=UTC:20260422T080000
DTEND;TZID=UTC:20260422T170000
DTSTAMP:20260422T024500
CREATED:20260414T122054Z
LAST-MODIFIED:20260417T123330Z
UID:1103-1776844800-1776877200@www.foggyproject.com
SUMMARY:Vino Vero (Lisbon)
DESCRIPTION:
URL:https://www.foggyproject.com/event/bacaro-lisbon/
END:VEVENT
END:VCALENDAR