BEGIN:VCALENDAR
VERSION:2.0
PRODID:-//Foggy Project - ECPv6.2.5//NONSGML v1.0//EN
CALSCALE:GREGORIAN
METHOD:PUBLISH
X-WR-CALNAME:Foggy Project
X-ORIGINAL-URL:https://www.foggyproject.com
X-WR-CALDESC:Events for Foggy Project
REFRESH-INTERVAL;VALUE=DURATION:PT1H
X-Robots-Tag:noindex
X-PUBLISHED-TTL:PT1H
BEGIN:VTIMEZONE
TZID:UTC
BEGIN:STANDARD
TZOFFSETFROM:+0000
TZOFFSETTO:+0000
TZNAME:UTC
DTSTART:20260101T000000
END:STANDARD
END:VTIMEZONE
BEGIN:VEVENT
DTSTART;TZID=UTC:20260426T080000
DTEND;TZID=UTC:20260426T170000
DTSTAMP:20260426T013708
CREATED:20260403T132408Z
LAST-MODIFIED:20260403T132408Z
UID:1095-1777190400-1777222800@www.foggyproject.com
SUMMARY:Arroz Estudios (Lisbon)
DESCRIPTION:
URL:https://www.foggyproject.com/event/arroz-estudios-lisbon/
END:VEVENT
END:VCALENDAR